BEGIN:VCALENDAR
VERSION:2.0
PRODID:-//eventon.com NONSGML v1.0//EN
CALSCALE:GREGORIAN
METHOD:PUBLISH
BEGIN:VEVENT
UID:69ec9907986cb
DTSTAMP:20260425T123551
DTSTART:20230619T160000Z
DTEND:20230619T173000Z
TZID:Europe/Berlin
LOCATION:
SUMMARY:Deutschkurs - German Language Course
DESCRIPTION:Montag und Mittwoch 16:00-17:30 Uhr In Zusammenarbeit mit der VHS Dortmund leitet unser Dozent Walter einen Deutschkurs zur Vorbereitung auf die B1-Prüfung. Praktisch und spielerisch werden deutsche Grammatik\,  schriftlicher und mündlicher Sprachgebrauch gemeinsam vertieft. Die Kurse sind offen für alle ohne Sondergenehmigung. Vorrang haben Personen mit Duldung und Gestattung. Zurzeit[..]\nhttps://superhausen.de/events/deutschkurs-german-language-course-40/
URL:https://superhausen.de/events/deutschkurs-german-language-course-40/
END:VEVENT
END:VCALENDAR