BEGIN:VCALENDAR
VERSION:2.0
PRODID:-//eventon.com NONSGML v1.0//EN
CALSCALE:GREGORIAN
METHOD:PUBLISH
BEGIN:VEVENT
UID:69e4fe902efed
DTSTAMP:20260419T181056
DTSTART:20241017T210000Z
DTEND:20241017T210001Z
TZID:Europe/Berlin
LOCATION:
SUMMARY:Duesterdisco – Jeden Donnerstag!
DESCRIPTION:Jeden Donnerstag: Duesterdisco/Eisenlager &#8211; Donnerstag ist Düstertag im Zentrum Altenberg &#8211; Eisenlager Eisenlager &#8211; Seit nun über 23 Jahren &#8211; Die Düsterdisco im Ruhrgebiet! EBM &#8211; Wave &#8211; SynthiePop &#8211; Indie &#8211; 80&#8217;s // Ab 21:00 Uhr // 5\, - € Eintritt Dresscode: Düster/Szene/Schwarz Nur Abendkasse &#8211; Kein Vorverkauf Jeden Donnerstag[..]\nhttps://superhausen.de/events/duesterdisco-jeden-donnerstag/var/ri-6.l-L1
URL:https://superhausen.de/events/duesterdisco-jeden-donnerstag/var/ri-6.l-L1
END:VEVENT
END:VCALENDAR