BEGIN:VCALENDAR
VERSION:2.0
PRODID:-//eventon.com NONSGML v1.0//EN
CALSCALE:GREGORIAN
METHOD:PUBLISH
BEGIN:VEVENT
UID:69e9d0d738297
DTSTAMP:20260423T095711
DTSTART:20240613T170000Z
DTEND:20240613T210000Z
TZID:Europe/Berlin
LOCATION:
SUMMARY:Leinwände zu Leihwänden
DESCRIPTION:Wir haben die Leinwände\,  und du die Ideen. Komm vorbei\,  schnapp dir Farben und Pinsel. Mal ein Bild und stelle es in der Stadt aus. Wir treffen uns im Supermarkt der Ideen auf der Goebenstr. 83. Dienstags und Donnerstags 16.00 bis 20.00 Uhr oder nach Vereinbarung.\nhttps://superhausen.de/events/leinwaende-zu-leihwaenden/var/ri-103.l-L1
URL:https://superhausen.de/events/leinwaende-zu-leihwaenden/var/ri-103.l-L1
END:VEVENT
END:VCALENDAR