BEGIN:VCALENDAR
VERSION:2.0
PRODID:-//eventon.com NONSGML v1.0//EN
CALSCALE:GREGORIAN
METHOD:PUBLISH
BEGIN:VEVENT
UID:69eb3eb7d3474
DTSTAMP:20260424T115815
DTSTART:20240729T190000Z
DTEND:20240729T235000Z
TZID:Europe/Berlin
LOCATION:
SUMMARY:KüfA – Küche für Alle (vegan)
DESCRIPTION:[english below] Die vegane KüfA* (Küche für Alle) im Unterhaus findet wöchenlich\,  immer montags\,  statt. Es gibt mindestens ein Gericht gegen Spende und die Möglichkeit zusammen zu kommen und sich auszutauschen. Um 19 Uhr wird aufgetischt. Falls ihr auch Lust habt\,  mal in der Küche zur Hand zu gehen und[..]\nhttps://superhausen.de/events/kuefa-kueche-fuer-alle-vegan/var/ri-25.l-L1
URL:https://superhausen.de/events/kuefa-kueche-fuer-alle-vegan/var/ri-25.l-L1
END:VEVENT
END:VCALENDAR