BEGIN:VCALENDAR
VERSION:2.0
PRODID:-//eventon.com NONSGML v1.0//EN
CALSCALE:GREGORIAN
METHOD:PUBLISH
BEGIN:VEVENT
UID:69ebe3924e555
DTSTAMP:20260424T234138
DTSTART:20230722T193000Z
DTEND:20230722T213000Z
TZID:Europe/Berlin
LOCATION:
SUMMARY:Cloud Trips (DE) x Plastic Peaches (DE)
DESCRIPTION:Cloud Trips ist ein Musikduo bestehend aus Lucien und Joe. Es werden Elemente aus verschiedensten Genres mit poetischen Lyrics vermischt\,  was eine mitreißende Atmosphäre schafft. Die Musik kennzeichnen melancholische Songs\,  mitreißende Drums und catchy Melodien\,  die außerdem zum Tanzen und Fühlen einladen. Der Kontrast zwischen den Songs und den Lyrics[..]\nhttps://superhausen.de/events/cloud-trips-de-x-plastic-peaches-de/
URL:https://superhausen.de/events/cloud-trips-de-x-plastic-peaches-de/
END:VEVENT
END:VCALENDAR