BEGIN:VCALENDAR
VERSION:2.0
PRODID:-//eventon.com NONSGML v1.0//EN
CALSCALE:GREGORIAN
METHOD:PUBLISH
BEGIN:VEVENT
UID:69e910026834e
DTSTAMP:20260422T201426
DTSTART:20231105T160000Z
DTEND:20231105T210000Z
TZID:Europe/Berlin
LOCATION:
SUMMARY:COAL MAFIA von Joanie Lemercier
DESCRIPTION:wir freuen uns\,  Joanie Lemercier als nächsten Künstler in unserem Residenzprogramm in Oberhausen begrüßen zu dürfen.&nbsp;Die Ausstellung „Coal Mafia“&nbsp;wird am&nbsp;Samstag\,  den 4. November 2023 um 18:00 Uhr in der Unterhaus-Galerie\,  Friedrich-Karl-Straße 4\,  46045 Oberhausen eröffnet.&nbsp; Joanie Lemercier ist ein französischer Visual-Artist\,  der in seinen Arbeiten Licht als Medium und den[..]\nhttps://superhausen.de/events/coal-mafia-von-joanie-lemercier-2/
URL:https://superhausen.de/events/coal-mafia-von-joanie-lemercier-2/
END:VEVENT
END:VCALENDAR