BEGIN:VCALENDAR
VERSION:2.0
PRODID:-//eventon.com NONSGML v1.0//EN
CALSCALE:GREGORIAN
METHOD:PUBLISH
BEGIN:VEVENT
UID:69ea5f9d37894
DTSTAMP:20260423T200621
DTSTART:20240120T123000Z
DTEND:20240120T170000Z
TZID:Europe/Berlin
LOCATION:
SUMMARY:Schnupper-Workshop Improtheater
DESCRIPTION:Sie möchten improvisieren spielend lernen und lehren? Ohne Plan\,  Vorgabe und Text auftreten und sich überraschen lassen\,  was für Szenen daraus entstehen können? Mit Thilo Matschke\,  Schauspieler (Schwerpunkt Zirkus- und Clownstheater und Improvisation) Anmeldung unter weingarte@theater-oberhausen.de\nhttps://superhausen.de/events/schnupper-workshop-improtheater/
URL:https://superhausen.de/events/schnupper-workshop-improtheater/
END:VEVENT
END:VCALENDAR