BEGIN:VCALENDAR
VERSION:2.0
PRODID:-//eventon.com NONSGML v1.0//EN
CALSCALE:GREGORIAN
METHOD:PUBLISH
BEGIN:VEVENT
UID:69eccc4aad7b0
DTSTAMP:20260425T161434
DTSTART:20240406T140000Z
DTEND:20240406T180000Z
TZID:Europe/Berlin
LOCATION:
SUMMARY:HAVE FUN *** COSTUMES & CAKES
DESCRIPTION:HAVE FUN &#8211; EIN WOCHENENDE IM MONAT COSTUMES &amp; CAKES Passend kurz vor Zuckerfest: “Torten\,  Torten\,  Torten&#8220; mit unserer tollen Yusrah. Diesmal werdet ihr selbst einen Kuchen zubereiten und ihn anschließend dekorieren. Für Fortgeschrittene\,  aber auch Anfänger:innen sind herzlich willkommen!&nbsp; Part I COSTUMES &amp; CAKES Anna Wandelt\,  Samia Abed\,  Yusrah[..]\nhttps://superhausen.de/events/have-fun-costumes-cakes-6/
URL:https://superhausen.de/events/have-fun-costumes-cakes-6/
END:VEVENT
END:VCALENDAR