BEGIN:VCALENDAR
VERSION:2.0
PRODID:-//eventon.com NONSGML v1.0//EN
CALSCALE:GREGORIAN
METHOD:PUBLISH
BEGIN:VEVENT
UID:69eb992a16cf4
DTSTAMP:20260424T182410
DTSTART:20240924T180000Z
DTEND:20240924T220000Z
TZID:Europe/Berlin
LOCATION:
SUMMARY:Vegane KüFa
DESCRIPTION:Jeden Dienstag gibts in Kurts Haus bei uns vegane Küche für alle! gekocht von der Crew des Druckluft Jugendbereiches. Offene Tür von 15 -22 Uhr Billard | Dart | Kicker | Brettspiele | etc. Zahlen müsst ihr nix\,  spenden dürft ihr gerne.\nhttps://superhausen.de/events/vegane-kuefa-2/var/ri-5.l-L1
URL:https://superhausen.de/events/vegane-kuefa-2/var/ri-5.l-L1
END:VEVENT
END:VCALENDAR