BEGIN:VCALENDAR
VERSION:2.0
PRODID:-//eventon.com NONSGML v1.0//EN
CALSCALE:GREGORIAN
METHOD:PUBLISH
BEGIN:VEVENT
UID:69e8837aeb7df
DTSTAMP:20260422T101450
DTSTART:20240222T173000Z
DTEND:20240222T220000Z
TZID:Europe/Berlin
LOCATION:
SUMMARY:Bingo! Abend
DESCRIPTION:ab 15 Uhr offene Kneipe | ~ 17:30 Uhr erste Runde B.I.N.G.O! „ Bingo gehört doch ins Altersheim! “ meint ihr Jungspunde nun wohl!?&nbsp;Tja\,  falsch gedacht! Wir machen das flippige Event für jede:n zwischen 16 -99+ Jahren zu einem… unvergesslichen Erlebnis.&nbsp; Bingo trifft auf Punkrock! Gepaart mit nem Haufen schlechter[..]\nhttps://superhausen.de/events/bingo-abend/
URL:https://superhausen.de/events/bingo-abend/
END:VEVENT
END:VCALENDAR