BEGIN:VCALENDAR
VERSION:2.0
PRODID:-//eventon.com NONSGML v1.0//EN
CALSCALE:GREGORIAN
METHOD:PUBLISH
BEGIN:VEVENT
UID:69e6822f914d4
DTSTAMP:20260420T214447
DTSTART:20240324T190000Z
DTEND:20240324T000000Z
TZID:Europe/Berlin
LOCATION:
SUMMARY:Mostly Autumn
DESCRIPTION:Romantik Prog.-Rock &amp; Folk der alten Schule. MOSTLY AUTUMN / GB / sind seit 1996 bekannt und geliebt für Ihren stark vom Ambient-Romantik-Prog.-Rock geprägten Stil / Sound. Diese einzigartigen Retro-Folk-Prog.-Rock Spezialisten kommen nun endlich in 2024 nach Deutschland zurück\,  um sich erneut in die Herzen alter &amp; neuer Fans zu[..]\nhttps://superhausen.de/events/mostly-autumn/
URL:https://superhausen.de/events/mostly-autumn/
END:VEVENT
END:VCALENDAR