BEGIN:VCALENDAR
VERSION:2.0
PRODID:-//eventon.com NONSGML v1.0//EN
CALSCALE:GREGORIAN
METHOD:PUBLISH
BEGIN:VEVENT
UID:69e4d5ea36bdd
DTSTAMP:20260419T151730
DTSTART:20240510T140000Z
DTEND:20240510T200000Z
TZID:Europe/Berlin
LOCATION:
SUMMARY:Stammtischkämpfer*innen-Seminar: Fit gegen rechte Parolen
DESCRIPTION:Fit gegen rechte Parolen! Rechte und verschwörungsgläubige Parolen begegnen uns allen im Alltag. Ob von Bekannten\,  Nachbar*innen\,  im Verein\,  in der Schule oder im Betrieb. Auch die Ankündigung nun doch mal die AfD zu wählen ist zu hören. Viele von uns sind dann sprachlos. Gegen diese Sprachlosigkeit wollen wir in[..]\nhttps://superhausen.de/events/stammtischkaempferinnen-seminar-fit-gegen-rechte-parolen/
URL:https://superhausen.de/events/stammtischkaempferinnen-seminar-fit-gegen-rechte-parolen/
END:VEVENT
END:VCALENDAR