BEGIN:VCALENDAR
VERSION:2.0
PRODID:-//eventon.com NONSGML v1.0//EN
CALSCALE:GREGORIAN
METHOD:PUBLISH
BEGIN:VEVENT
UID:69ebfe3416542
DTSTAMP:20260425T013516
DTSTART:20240913T200000Z
DTEND:20240913T220000Z
TZID:Europe/Berlin
LOCATION:
SUMMARY:VINCE (DE)
DESCRIPTION:Der aufstrebende Künstler Vince hat sich mit seinem einzigartigen Mix aus Indie-Pop-Rap und synthetischen Klängen einen festen Platz in der Musikszene erobert. Vor etwa vier Jahren begann Vince gemeinsam mit einem Freund seine musikalische Reise. Seitdem hat er sich zu einem einfallsreichen Solokünstler entwickelt.\nhttps://superhausen.de/events/vince-de/
URL:https://superhausen.de/events/vince-de/
END:VEVENT
END:VCALENDAR