BEGIN:VCALENDAR
VERSION:2.0
PRODID:-//eventon.com NONSGML v1.0//EN
CALSCALE:GREGORIAN
METHOD:PUBLISH
BEGIN:VEVENT
UID:69e5f41f92572
DTSTAMP:20260420T113839
DTSTART:20240803T193000Z
DTEND:20240803T213000Z
TZID:Europe/Berlin
LOCATION:
SUMMARY:SpielArt
DESCRIPTION:Eintrifft ist frei\,  für das Sitzen im Biergarten müsst ihr aber reservieren.\nhttps://superhausen.de/events/spielart/
URL:https://superhausen.de/events/spielart/
END:VEVENT
END:VCALENDAR