BEGIN:VCALENDAR
VERSION:2.0
PRODID:-//eventon.com NONSGML v1.0//EN
CALSCALE:GREGORIAN
METHOD:PUBLISH
BEGIN:VEVENT
UID:69e955faa18e7
DTSTAMP:20260423T011258
DTSTART:20241123T110000Z
DTEND:20241123T123000Z
TZID:Europe/Berlin
LOCATION:
SUMMARY:URBAN WORKOUT
DESCRIPTION:URBAN WORKOUT mit unserer lieben Dasha jeden Samstag! Sport zu treiben und aktiv zu sein ist ein guter Weg\,  um einen gesunden Geist in einem gesunden Körper zu erhalten. Ab sofort hast Du jeden Samstag mit kitev die Möglichkeit\,  deinen Körper mit funktionellem Training an der frischen Luft bei cooler[..]\nhttps://superhausen.de/events/urban-workout-2/var/ri-2.l-L1
URL:https://superhausen.de/events/urban-workout-2/var/ri-2.l-L1
END:VEVENT
END:VCALENDAR