BEGIN:VCALENDAR
VERSION:2.0
PRODID:-//eventon.com NONSGML v1.0//EN
CALSCALE:GREGORIAN
METHOD:PUBLISH
BEGIN:VEVENT
UID:69e57aa5650e6
DTSTAMP:20260420T030021
DTSTART:20240723T120000Z
DTEND:20240723T140000Z
TZID:Europe/Berlin
LOCATION:
SUMMARY:Wie sage ich es richtig auf deutsch?
DESCRIPTION:Wird das R gerollt? Wie klingt das g am Ende von König? Wie spreche ich ein ä ö ü eigentlich aus? Wie sage ich s oder ss oder ß oder sch oder st? Franz beantwortet dir alle diese Fragen. Gemeinsam üben wir die Aussprache\,  die Sprech-Technik und lernen die Klänge[..]\nhttps://superhausen.de/events/wie-sage-ich-es-richtig-auf-deutsch/var/ri-6.l-L1
URL:https://superhausen.de/events/wie-sage-ich-es-richtig-auf-deutsch/var/ri-6.l-L1
END:VEVENT
END:VCALENDAR