BEGIN:VCALENDAR
VERSION:2.0
PRODID:-//eventon.com NONSGML v1.0//EN
CALSCALE:GREGORIAN
METHOD:PUBLISH
BEGIN:VEVENT
UID:69e95e8a3e706
DTSTAMP:20260423T014930
DTSTART:20240927T200000Z
DTEND:20240927T154500Z
TZID:Europe/Berlin
LOCATION:
SUMMARY:The TiPS The Magic Flip
DESCRIPTION:THE TiPS kommen wieder nach Oberhausen! Nach ihren Gastspielen beim Olgas Rock 2016 und 2022\,  sowie einer Show im Zentrum Altenberg im Jahr 2016 ist das Trio mit ihrem neuen Album „!EAT PLASTIC“ im Gepäck wieder Gast in unserem Haus.&nbsp; Viel ist passiert nachdem die Band mit ihrem Vorgänger-Album TWISTS’N’TURNS[..]\nhttps://superhausen.de/events/the-tips-the-magic-flip/
URL:https://superhausen.de/events/the-tips-the-magic-flip/
END:VEVENT
END:VCALENDAR