BEGIN:VCALENDAR
VERSION:2.0
PRODID:-//eventon.com NONSGML v1.0//EN
CALSCALE:GREGORIAN
METHOD:PUBLISH
BEGIN:VEVENT
UID:69e6adc6ccc93
DTSTAMP:20260421T005046
DTSTART:20240622T140000Z
DTEND:20240622T180000Z
TZID:Europe/Berlin
LOCATION:
SUMMARY:Geschichtlicher Stadtrundgang: Oberhausen unterm Hakenkreuz // Historical city tour: Oberhausen under the swastika
DESCRIPTION:Treffpunkt Altmarkt\,  vor der Herz-Jesu-Kirche In Kooperation mit der Geschichtswerkstatt Oberhausen bieten wir in diesem Semester drei geschichtliche Stadtrundgänge an: Oberhausen unterm Hakenkreuz – mit Christoph Strahl Wann? SO // 22.06.24 // 14:00 Uhr Wo? Treffpunkt am Altmarkt\,  vor der Herz-Jesu-Kirche Die Parklandschaft Westfriedhof Lirich – mit André Wilger Wann?[..]\nhttps://superhausen.de/events/geschichtlicher-stadtrundgang-oberhausen-unterm-hakenkreuz-historical-city-tour-oberhausen-under-the-swastika/
URL:https://superhausen.de/events/geschichtlicher-stadtrundgang-oberhausen-unterm-hakenkreuz-historical-city-tour-oberhausen-under-the-swastika/
END:VEVENT
END:VCALENDAR