BEGIN:VCALENDAR
VERSION:2.0
PRODID:-//eventon.com NONSGML v1.0//EN
CALSCALE:GREGORIAN
METHOD:PUBLISH
BEGIN:VEVENT
UID:69eb0b472ac3a
DTSTAMP:20260424T081847
DTSTART:20240710T170000Z
DTEND:20240710T200000Z
TZID:Europe/Berlin
LOCATION:
SUMMARY:Tierische Kunst in Oberhausen – Creating a Geocache for beginners and advanced
DESCRIPTION:Bestimmt kennt Ihr den großen bronzenen Wasservogel\,  der im Brunnen auf dem Friedensplatz badet. Aber welche tierischen Kunstwerke gibt es sonst noch in unserem Quartier? Gemeinsam machen wir uns auf die Suche und entwickeln entlang der entdeckten Figuren einen Geocache\,  der der Nachwelt erhalten blieben soll. Ihr lernt spannende Basics[..]\nhttps://superhausen.de/events/tierische-kunst-in-oberhausen-creating-a-geocache-for-beginners-and-advanced-2/var/ri-1.l-L1
URL:https://superhausen.de/events/tierische-kunst-in-oberhausen-creating-a-geocache-for-beginners-and-advanced-2/var/ri-1.l-L1
END:VEVENT
END:VCALENDAR