BEGIN:VCALENDAR
VERSION:2.0
PRODID:-//eventon.com NONSGML v1.0//EN
CALSCALE:GREGORIAN
METHOD:PUBLISH
BEGIN:VEVENT
UID:69eae46c44b9c
DTSTAMP:20260424T053300
DTSTART:20240704T180000Z
DTEND:20240704T200000Z
TZID:Europe/Berlin
LOCATION:
SUMMARY:Lesen! Lesen & unterhalten / Read & talk / Lire & bavarder / okuma ve eglence /  القراءة والترفيه
DESCRIPTION:Unsere Leserätin Silvia wird sich mit den im diesjährigen FUni-Semester behandelten Themen befassen und hierzu ältere und aktuelle Bücher suchen. In zwei Buch-Präsentationen wird sie euch dann jeweils mehrere Werke vorstellen. Wenn eines der vorgestellten Bücher euer Interesse weckt\,  entstehen daraus kleine Lesekreise\,  in denen ihr gemeinsam über eure Eindrücke[..]\nhttps://superhausen.de/events/lesen-lesen-unterhalten-read-talk-lire-bavarder-okuma-ve-eglence-%d8%a7%d9%84%d9%82%d8%b1%d8%a7%d8%a1%d8%a9-%d9%88%d8%a7%d9%84%d8%aa%d8%b1%d9%81%d9%8a%d9%87/
URL:https://superhausen.de/events/lesen-lesen-unterhalten-read-talk-lire-bavarder-okuma-ve-eglence-%d8%a7%d9%84%d9%82%d8%b1%d8%a7%d8%a1%d8%a9-%d9%88%d8%a7%d9%84%d8%aa%d8%b1%d9%81%d9%8a%d9%87/
END:VEVENT
END:VCALENDAR