BEGIN:VCALENDAR
VERSION:2.0
PRODID:-//eventon.com NONSGML v1.0//EN
CALSCALE:GREGORIAN
METHOD:PUBLISH
BEGIN:VEVENT
UID:69eba9f8ca0ed
DTSTAMP:20260424T193552
DTSTART:20240920T150000Z
DTEND:20240920T170000Z
TZID:Europe/Berlin
LOCATION:
SUMMARY:„Wir Kinder haben Rechte!“ // Talks for and with children
DESCRIPTION:Innenhof des K14\,  Lothringer Straße 64 Für alle Kinder\,  die ihre Rechte kennen und verfechten wollen Hallo\,  liebe Kinder! Ich heiße Dörte und lebe zusammen mit meinen beiden Kindern (9 &amp;12 Jahre alt) in Oberhausen. Bei unseren Treffen möchte ich mit Euch über Kinderrechte sprechen. Die Kinderrechte gibt es\,  damit[..]\nhttps://superhausen.de/events/wir-kinder-haben-rechte-talks-for-and-with-children/var/ri-1.l-L1
URL:https://superhausen.de/events/wir-kinder-haben-rechte-talks-for-and-with-children/var/ri-1.l-L1
END:VEVENT
END:VCALENDAR