BEGIN:VCALENDAR
VERSION:2.0
PRODID:-//eventon.com NONSGML v1.0//EN
CALSCALE:GREGORIAN
METHOD:PUBLISH
BEGIN:VEVENT
UID:69e5c3bc990da
DTSTAMP:20260420T081212
DTSTART:20240808T180000Z
DTEND:20240808T160000Z
TZID:Europe/Berlin
LOCATION:
SUMMARY:THIRSTDAY. MUSIK.BIER.GARTEN. | FISCH & OLDRIK
DESCRIPTION:***DRUCKLUFT THIRSTDAY***Musik.Bier.Garten. Wir eröffnen unseren alten Biergarten und ab sofort gibt es den ganzen Sommer über jeden Donnerstag Live-Musik auf unserer Außenbühne! Der Eintritt ist immer frei\,  es gibt immer gezapftes Bier &amp; Cocktails an unserer neuen Außentheke sowie veganes Essen. Wir öffnen jeweils um 18 Uhr.Dieses Mal mitFISCH &amp;[..]\nhttps://superhausen.de/events/thirstday-musik-bier-garten-fisch-oldrik/
URL:https://superhausen.de/events/thirstday-musik-bier-garten-fisch-oldrik/
END:VEVENT
END:VCALENDAR