BEGIN:VCALENDAR
VERSION:2.0
PRODID:-//eventon.com NONSGML v1.0//EN
CALSCALE:GREGORIAN
METHOD:PUBLISH
BEGIN:VEVENT
UID:69e94e0162eab
DTSTAMP:20260423T003857
DTSTART:20241128T150000Z
DTEND:20241128T170000Z
TZID:Europe/Berlin
LOCATION:
SUMMARY:INTERNATIONAL ENGLISH CAFÉ
DESCRIPTION:Every thursday we meet at LEERSTAND and we only want one thing:&nbsp; TALK! No matter which language(s) you bring with you &#8211; everything is welcome and the more variety the better. In a relaxed atmosphere\,  we would like to exchange ideas with games and coffee\,  and for sure improve our[..]\nhttps://superhausen.de/events/nternational-english-cafe/var/ri-3.l-L1
URL:https://superhausen.de/events/nternational-english-cafe/var/ri-3.l-L1
END:VEVENT
END:VCALENDAR