BEGIN:VCALENDAR
VERSION:2.0
PRODID:-//eventon.com NONSGML v1.0//EN
CALSCALE:GREGORIAN
METHOD:PUBLISH
BEGIN:VEVENT
UID:69e903d5a7aa8
DTSTAMP:20260422T192229
DTSTART:20250119T183000Z
DTEND:20250119T110000Z
TZID:Europe/Berlin
LOCATION:
SUMMARY:DENKRAUM. Theater & Philosophie #3
DESCRIPTION:In der ersten Ausgabe von Aus aktuellem Anlass der neuen Spielzeit lädt sie Prof. Dr. Katja Crone ein\,  die eine Professur für Philosophie des Geistes an der Technischen Universität Dortmund innehat. Gemeinsam denken sie laut über die Themen der Produktion Milch und Kohle nach – über die Kraft der Erinnerung\, [..]\nhttps://superhausen.de/events/denkraum-theater-philosophie-3/
URL:https://superhausen.de/events/denkraum-theater-philosophie-3/
END:VEVENT
END:VCALENDAR