BEGIN:VCALENDAR
VERSION:2.0
PRODID:-//eventon.com NONSGML v1.0//EN
CALSCALE:GREGORIAN
METHOD:PUBLISH
BEGIN:VEVENT
UID:69e5f31e757f9
DTSTAMP:20260420T113422
DTSTART:20260213T180000Z
DTEND:20260213T110000Z
TZID:Europe/Berlin
LOCATION:
SUMMARY:Sebastian Dey & Stubengroove – Kneipenkonzert
DESCRIPTION:Sebastian Dey kommt mit Freunden vorbei und macht Musik in der Schmiede.&nbsp;Kommt auch ihr vorbei und hört Ihnen zu 🙂&nbsp; Das wird ein schöner Einstieg ins Wochenende! Der Eintritt ist frei. Der Hut geht rum! Die Schmiede öffnet um 18 Uhr.Beginn: ca. 19 Uhr. Chanson mit Geige\,  Gitarre und Gesang\, [..]\nhttps://superhausen.de/events/sebastian-dey-stubengroove-kneipenkonzert/
URL:https://superhausen.de/events/sebastian-dey-stubengroove-kneipenkonzert/
END:VEVENT
END:VCALENDAR